BEGIN:VCALENDAR
VERSION:2.0
PRODID:-//NEM Events//Eventi//IT
CALSCALE:GREGORIAN
METHOD:PUBLISH
X-WR-CALNAME:Riunione di redazione
X-WR-TIMEZONE:Europe/Rome
BEGIN:VEVENT
UID:event-558@www.linkfestival.it
DTSTAMP:20260426T024846Z
DTSTART:20260410T090000Z
DTEND:20260410T100000Z
SUMMARY:Riunione di redazione
DESCRIPTION:
LOCATION:Link Arena - Piazza Unità d'Italia\, 34121\, Trieste
URL:https://www.linkfestival.it/eventi/events/riunione-di-redazione/
STATUS:CONFIRMED
SEQUENCE:0
END:VEVENT
END:VCALENDAR